BEGIN:VCALENDAR
VERSION:2.0
PRODID:-//SSK Uherský Ostroh - ECPv6.15.20//NONSGML v1.0//EN
CALSCALE:GREGORIAN
METHOD:PUBLISH
X-ORIGINAL-URL:https://www.ssk-uherskyostroh.cz
X-WR-CALDESC:Akce na SSK Uherský Ostroh
REFRESH-INTERVAL;VALUE=DURATION:PT1H
X-Robots-Tag:noindex
X-PUBLISHED-TTL:PT1H
BEGIN:VTIMEZONE
TZID:Europe/Prague
BEGIN:DAYLIGHT
TZOFFSETFROM:+0100
TZOFFSETTO:+0200
TZNAME:CEST
DTSTART:20250330T010000
END:DAYLIGHT
BEGIN:STANDARD
TZOFFSETFROM:+0200
TZOFFSETTO:+0100
TZNAME:CET
DTSTART:20251026T010000
END:STANDARD
BEGIN:DAYLIGHT
TZOFFSETFROM:+0100
TZOFFSETTO:+0200
TZNAME:CEST
DTSTART:20260329T010000
END:DAYLIGHT
BEGIN:STANDARD
TZOFFSETFROM:+0200
TZOFFSETTO:+0100
TZNAME:CET
DTSTART:20261025T010000
END:STANDARD
BEGIN:DAYLIGHT
TZOFFSETFROM:+0100
TZOFFSETTO:+0200
TZNAME:CEST
DTSTART:20270328T010000
END:DAYLIGHT
BEGIN:STANDARD
TZOFFSETFROM:+0200
TZOFFSETTO:+0100
TZNAME:CET
DTSTART:20271031T010000
END:STANDARD
END:VTIMEZONE
BEGIN:VEVENT
DTSTART;VALUE=DATE:20260704
DTEND;VALUE=DATE:20260706
DTSTAMP:20260424T152653
CREATED:20251002T181559Z
LAST-MODIFIED:20260104T163907Z
UID:8823-1783123200-1783295999@www.ssk-uherskyostroh.cz
SUMMARY:Velká cena Uh. Ostrohu - předovky
DESCRIPTION:Propozice \n 
URL:https://www.ssk-uherskyostroh.cz/event/velka-cena/
CATEGORIES:Závody
END:VEVENT
BEGIN:VEVENT
DTSTART;VALUE=DATE:20260731
DTEND;VALUE=DATE:20260803
DTSTAMP:20260424T152653
CREATED:20250617T111236Z
LAST-MODIFIED:20250617T111236Z
UID:8679-1785456000-1785715199@www.ssk-uherskyostroh.cz
SUMMARY:Soukromá akce
DESCRIPTION:
URL:https://www.ssk-uherskyostroh.cz/event/soukroma-akce-11/
CATEGORIES:Soukromá akce
END:VEVENT
BEGIN:VEVENT
DTSTART;TZID=Europe/Prague:20260807T170000
DTEND;TZID=Europe/Prague:20260809T120000
DTSTAMP:20260424T152653
CREATED:20260321T143430Z
LAST-MODIFIED:20260321T143430Z
UID:9074-1786122000-1786276800@www.ssk-uherskyostroh.cz
SUMMARY:Soukromá akce
DESCRIPTION:
URL:https://www.ssk-uherskyostroh.cz/event/soukroma-akce-23/
CATEGORIES:Soukromá akce
END:VEVENT
BEGIN:VEVENT
DTSTART;VALUE=DATE:20260814
DTEND;VALUE=DATE:20260817
DTSTAMP:20260424T152653
CREATED:20250513T054957Z
LAST-MODIFIED:20250513T054957Z
UID:8596-1786665600-1786924799@www.ssk-uherskyostroh.cz
SUMMARY:Soukromá akce
DESCRIPTION:
URL:https://www.ssk-uherskyostroh.cz/event/soukroma-akce-9/
CATEGORIES:Soukromá akce
END:VEVENT
BEGIN:VEVENT
DTSTART;VALUE=DATE:20260821
DTEND;VALUE=DATE:20260824
DTSTAMP:20260424T152653
CREATED:20260305T173447Z
LAST-MODIFIED:20260305T173447Z
UID:9066-1787270400-1787529599@www.ssk-uherskyostroh.cz
SUMMARY:Soukromá akce
DESCRIPTION:
URL:https://www.ssk-uherskyostroh.cz/event/soukroma-akce-24/
CATEGORIES:Soukromá akce
END:VEVENT
BEGIN:VEVENT
DTSTART;VALUE=DATE:20260828
DTEND;VALUE=DATE:20260831
DTSTAMP:20260424T152653
CREATED:20260122T211109Z
LAST-MODIFIED:20260122T211109Z
UID:8989-1787875200-1788134399@www.ssk-uherskyostroh.cz
SUMMARY:Soukromá akce
DESCRIPTION:
URL:https://www.ssk-uherskyostroh.cz/event/soukroma-akce-22/
CATEGORIES:Soukromá akce
END:VEVENT
BEGIN:VEVENT
DTSTART;VALUE=DATE:20260904
DTEND;VALUE=DATE:20260907
DTSTAMP:20260424T152653
CREATED:20251002T181113Z
LAST-MODIFIED:20251002T181113Z
UID:8821-1788480000-1788739199@www.ssk-uherskyostroh.cz
SUMMARY:Soukromá akce
DESCRIPTION:
URL:https://www.ssk-uherskyostroh.cz/event/soukroma-akce-13/
CATEGORIES:Soukromá akce
END:VEVENT
END:VCALENDAR