BEGIN:VCALENDAR
VERSION:2.0
PRODID:-//SSK Uherský Ostroh - ECPv6.15.20//NONSGML v1.0//EN
CALSCALE:GREGORIAN
METHOD:PUBLISH
X-WR-CALNAME:SSK Uherský Ostroh
X-ORIGINAL-URL:https://www.ssk-uherskyostroh.cz
X-WR-CALDESC:Akce na SSK Uherský Ostroh
REFRESH-INTERVAL;VALUE=DURATION:PT1H
X-Robots-Tag:noindex
X-PUBLISHED-TTL:PT1H
BEGIN:VTIMEZONE
TZID:Europe/Prague
BEGIN:DAYLIGHT
TZOFFSETFROM:+0100
TZOFFSETTO:+0200
TZNAME:CEST
DTSTART:20250330T010000
END:DAYLIGHT
BEGIN:STANDARD
TZOFFSETFROM:+0200
TZOFFSETTO:+0100
TZNAME:CET
DTSTART:20251026T010000
END:STANDARD
BEGIN:DAYLIGHT
TZOFFSETFROM:+0100
TZOFFSETTO:+0200
TZNAME:CEST
DTSTART:20260329T010000
END:DAYLIGHT
BEGIN:STANDARD
TZOFFSETFROM:+0200
TZOFFSETTO:+0100
TZNAME:CET
DTSTART:20261025T010000
END:STANDARD
BEGIN:DAYLIGHT
TZOFFSETFROM:+0100
TZOFFSETTO:+0200
TZNAME:CEST
DTSTART:20270328T010000
END:DAYLIGHT
BEGIN:STANDARD
TZOFFSETFROM:+0200
TZOFFSETTO:+0100
TZNAME:CET
DTSTART:20271031T010000
END:STANDARD
END:VTIMEZONE
BEGIN:VEVENT
DTSTART;TZID=Europe/Prague:20260207T090000
DTEND;TZID=Europe/Prague:20260207T110000
DTSTAMP:20260424T142237
CREATED:20260103T113538Z
LAST-MODIFIED:20260103T131726Z
UID:8916-1770454800-1770462000@www.ssk-uherskyostroh.cz
SUMMARY:Výroční členská schůze
DESCRIPTION:P O Z V Á N K A \nVýbor ČSS\, z.s. – SSK Uh. Ostroh srdečně zve všechny členy klubu na \nvýroční členskou schůzi\, která se koná v SOBOTU  – 7.  ÚNORA  2026 v 9.00 hod. na střelnici. \nPřijďte si mezi nás popovídat o Vašich názorech či připomínkách\, ať už kladných nebo záporných. \nV případě\, že se nemůžete z vážných důvodů zúčastnit nebo hodláte ukončit členství v organizaci\, oznamte to osobně\, telefonicky nebo elektronickou či písemnou formou na adresu jednatelky klubu: \n  \nJitka Zajíčková\, Rybáře 65\, 687 24 Uh. Ostroh \ne-mail: zajickova.jitka@tiscali.cz\, tel: 608 857 007 \n  \nZa výbor SSK Uh. Ostroh jednatelka a pokladní klubu Jitka Zajíčková \nUpozornění: \n– budou se platit členské příspěvky na rok 2026 (500 Kč + 200 Kč) \n(částku můžete poslat již teď na účet 154181588/0300 – do poznámky\, prosím napište – příspěvky a vaše příjmení) \n– budou se také vyřizovat pohledávky za neodpracované brigádnické hodiny za rok 2025 \n(částku vám napíši na váš e-mail a můžete ji poslat již teď na účet 154181588/0300 – do poznámky\, prosím napište – brigády a vaše      příjmení) \n– h o t o v o s t pro ostatní členy a dobrou náladu s sebou!!!
URL:https://www.ssk-uherskyostroh.cz/event/vyrocni-clenska-schuze/
CATEGORIES:Akce
ATTACH;FMTTYPE=image/jpeg:https://www.ssk-uherskyostroh.cz/wp-content/uploads/2025/04/Budova3-1-12.jpg
END:VEVENT
BEGIN:VEVENT
DTSTART;VALUE=DATE:20260214
DTEND;VALUE=DATE:20260215
DTSTAMP:20260424T142237
CREATED:20260104T163204Z
LAST-MODIFIED:20260218T182939Z
UID:8939-1771027200-1771113599@www.ssk-uherskyostroh.cz
SUMMARY:Pohár SSK Uh. Ostroh - VzPu 40\, VzPu 60 - 2. kolo
DESCRIPTION:Propozice \nPřihlášky \nVýsledky
URL:https://www.ssk-uherskyostroh.cz/event/pohar-ssk-uh-ostroh-vzpu-40-vzpu-60-2-kolo/
CATEGORIES:Závody
END:VEVENT
BEGIN:VEVENT
DTSTART;VALUE=DATE:20260322
DTEND;VALUE=DATE:20260323
DTSTAMP:20260424T142237
CREATED:20260104T164319Z
LAST-MODIFIED:20260322T191813Z
UID:8942-1774137600-1774223999@www.ssk-uherskyostroh.cz
SUMMARY:KSL Zlínsko - VzPu 30 - 3. kolo
DESCRIPTION:Propozice \nVýsledky \n 
URL:https://www.ssk-uherskyostroh.cz/event/ksl-zlinsko-vzpu-30-3-kolo/
CATEGORIES:Závody
END:VEVENT
BEGIN:VEVENT
DTSTART;VALUE=DATE:20260327
DTEND;VALUE=DATE:20260330
DTSTAMP:20260424T142237
CREATED:20251204T085800Z
LAST-MODIFIED:20251204T085800Z
UID:8871-1774569600-1774828799@www.ssk-uherskyostroh.cz
SUMMARY:Soukromá akce
DESCRIPTION:
URL:https://www.ssk-uherskyostroh.cz/event/soukroma-akce-16/
CATEGORIES:Soukromá akce
END:VEVENT
BEGIN:VEVENT
DTSTART;TZID=Europe/Prague:20260403T080000
DTEND;TZID=Europe/Prague:20260405T170000
DTSTAMP:20260424T142237
CREATED:20250708T094042Z
LAST-MODIFIED:20250708T094042Z
UID:8728-1775203200-1775408400@www.ssk-uherskyostroh.cz
SUMMARY:Soukromá akce
DESCRIPTION:
URL:https://www.ssk-uherskyostroh.cz/event/soukroma-akce-12/
CATEGORIES:Soukromá akce
END:VEVENT
BEGIN:VEVENT
DTSTART;VALUE=DATE:20260418
DTEND;VALUE=DATE:20260419
DTSTAMP:20260424T142237
CREATED:20251214T160616Z
LAST-MODIFIED:20260411T170527Z
UID:8884-1776470400-1776556799@www.ssk-uherskyostroh.cz
SUMMARY:Jarní cena 2026 - předovky
DESCRIPTION:Propozice \nStartovní listiny-krátké a dlouhé \nStartovní listiny-100 m
URL:https://www.ssk-uherskyostroh.cz/event/jarni-cena-2026-predovky/
CATEGORIES:Závody
END:VEVENT
BEGIN:VEVENT
DTSTART;VALUE=DATE:20260424
DTEND;VALUE=DATE:20260427
DTSTAMP:20260424T142237
CREATED:20251110T083442Z
LAST-MODIFIED:20251110T083442Z
UID:8866-1776988800-1777247999@www.ssk-uherskyostroh.cz
SUMMARY:Soukromá akce
DESCRIPTION:
URL:https://www.ssk-uherskyostroh.cz/event/soukroma-akce-15/
CATEGORIES:Soukromá akce
END:VEVENT
BEGIN:VEVENT
DTSTART;VALUE=DATE:20260501
DTEND;VALUE=DATE:20260504
DTSTAMP:20260424T142237
CREATED:20250606T201632Z
LAST-MODIFIED:20250606T201632Z
UID:8661-1777593600-1777852799@www.ssk-uherskyostroh.cz
SUMMARY:Soukromá akce
DESCRIPTION:
URL:https://www.ssk-uherskyostroh.cz/event/soukroma-akce-10/
CATEGORIES:Soukromá akce
END:VEVENT
BEGIN:VEVENT
DTSTART;VALUE=DATE:20260508
DTEND;VALUE=DATE:20260511
DTSTAMP:20260424T142237
CREATED:20250513T054628Z
LAST-MODIFIED:20250513T054637Z
UID:8590-1778198400-1778457599@www.ssk-uherskyostroh.cz
SUMMARY:Soukromá akce
DESCRIPTION:
URL:https://www.ssk-uherskyostroh.cz/event/soukroma-akce-7/
CATEGORIES:Soukromá akce
END:VEVENT
BEGIN:VEVENT
DTSTART;VALUE=DATE:20260515
DTEND;VALUE=DATE:20260518
DTSTAMP:20260424T142237
CREATED:20260117T160632Z
LAST-MODIFIED:20260117T160632Z
UID:8985-1778803200-1779062399@www.ssk-uherskyostroh.cz
SUMMARY:Soukromá akce
DESCRIPTION:
URL:https://www.ssk-uherskyostroh.cz/event/soukroma-akce-21/
CATEGORIES:Soukromá akce
END:VEVENT
BEGIN:VEVENT
DTSTART;VALUE=DATE:20260522
DTEND;VALUE=DATE:20260525
DTSTAMP:20260424T142237
CREATED:20260106T162745Z
LAST-MODIFIED:20260106T162745Z
UID:8966-1779408000-1779667199@www.ssk-uherskyostroh.cz
SUMMARY:Soukromá akce
DESCRIPTION:
URL:https://www.ssk-uherskyostroh.cz/event/soukroma-akce-17/
CATEGORIES:Akce,Soukromá akce
END:VEVENT
BEGIN:VEVENT
DTSTART;VALUE=DATE:20260529
DTEND;VALUE=DATE:20260601
DTSTAMP:20260424T142237
CREATED:20260109T204529Z
LAST-MODIFIED:20260109T204529Z
UID:8968-1780012800-1780271999@www.ssk-uherskyostroh.cz
SUMMARY:Soukromá akce
DESCRIPTION:
URL:https://www.ssk-uherskyostroh.cz/event/soukroma-akce-19/
CATEGORIES:Soukromá akce
END:VEVENT
BEGIN:VEVENT
DTSTART;VALUE=DATE:20260604
DTEND;VALUE=DATE:20260608
DTSTAMP:20260424T142237
CREATED:20250606T201445Z
LAST-MODIFIED:20250606T201445Z
UID:8658-1780531200-1780876799@www.ssk-uherskyostroh.cz
SUMMARY:Ostrohfest
DESCRIPTION:
URL:https://www.ssk-uherskyostroh.cz/event/ostrohfest/
CATEGORIES:Akce
END:VEVENT
BEGIN:VEVENT
DTSTART;VALUE=DATE:20260612
DTEND;VALUE=DATE:20260615
DTSTAMP:20260424T142237
CREATED:20260113T172218Z
LAST-MODIFIED:20260113T172218Z
UID:8983-1781222400-1781481599@www.ssk-uherskyostroh.cz
SUMMARY:Soukromá akce
DESCRIPTION:
URL:https://www.ssk-uherskyostroh.cz/event/soukroma-akce-20/
CATEGORIES:Soukromá akce
END:VEVENT
BEGIN:VEVENT
DTSTART;VALUE=DATE:20260619
DTEND;VALUE=DATE:20260622
DTSTAMP:20260424T142237
CREATED:20260105T170036Z
LAST-MODIFIED:20260105T170036Z
UID:8964-1781827200-1782086399@www.ssk-uherskyostroh.cz
SUMMARY:Soukromá akce
DESCRIPTION:
URL:https://www.ssk-uherskyostroh.cz/event/soukroma-akce-18/
CATEGORIES:Soukromá akce
END:VEVENT
BEGIN:VEVENT
DTSTART;TZID=Europe/Prague:20260626T170000
DTEND;TZID=Europe/Prague:20260628T130000
DTSTAMP:20260424T142237
CREATED:20251013T202002Z
LAST-MODIFIED:20251013T202015Z
UID:8835-1782493200-1782651600@www.ssk-uherskyostroh.cz
SUMMARY:Soukromá akce
DESCRIPTION:
URL:https://www.ssk-uherskyostroh.cz/event/soukroma-akce-14/
END:VEVENT
BEGIN:VEVENT
DTSTART;VALUE=DATE:20260704
DTEND;VALUE=DATE:20260706
DTSTAMP:20260424T142237
CREATED:20251002T181559Z
LAST-MODIFIED:20260104T163907Z
UID:8823-1783123200-1783295999@www.ssk-uherskyostroh.cz
SUMMARY:Velká cena Uh. Ostrohu - předovky
DESCRIPTION:Propozice \n 
URL:https://www.ssk-uherskyostroh.cz/event/velka-cena/
CATEGORIES:Závody
END:VEVENT
BEGIN:VEVENT
DTSTART;VALUE=DATE:20260731
DTEND;VALUE=DATE:20260803
DTSTAMP:20260424T142237
CREATED:20250617T111236Z
LAST-MODIFIED:20250617T111236Z
UID:8679-1785456000-1785715199@www.ssk-uherskyostroh.cz
SUMMARY:Soukromá akce
DESCRIPTION:
URL:https://www.ssk-uherskyostroh.cz/event/soukroma-akce-11/
CATEGORIES:Soukromá akce
END:VEVENT
BEGIN:VEVENT
DTSTART;TZID=Europe/Prague:20260807T170000
DTEND;TZID=Europe/Prague:20260809T120000
DTSTAMP:20260424T142237
CREATED:20260321T143430Z
LAST-MODIFIED:20260321T143430Z
UID:9074-1786122000-1786276800@www.ssk-uherskyostroh.cz
SUMMARY:Soukromá akce
DESCRIPTION:
URL:https://www.ssk-uherskyostroh.cz/event/soukroma-akce-23/
CATEGORIES:Soukromá akce
END:VEVENT
BEGIN:VEVENT
DTSTART;VALUE=DATE:20260814
DTEND;VALUE=DATE:20260817
DTSTAMP:20260424T142237
CREATED:20250513T054957Z
LAST-MODIFIED:20250513T054957Z
UID:8596-1786665600-1786924799@www.ssk-uherskyostroh.cz
SUMMARY:Soukromá akce
DESCRIPTION:
URL:https://www.ssk-uherskyostroh.cz/event/soukroma-akce-9/
CATEGORIES:Soukromá akce
END:VEVENT
BEGIN:VEVENT
DTSTART;VALUE=DATE:20260821
DTEND;VALUE=DATE:20260824
DTSTAMP:20260424T142237
CREATED:20260305T173447Z
LAST-MODIFIED:20260305T173447Z
UID:9066-1787270400-1787529599@www.ssk-uherskyostroh.cz
SUMMARY:Soukromá akce
DESCRIPTION:
URL:https://www.ssk-uherskyostroh.cz/event/soukroma-akce-24/
CATEGORIES:Soukromá akce
END:VEVENT
BEGIN:VEVENT
DTSTART;VALUE=DATE:20260828
DTEND;VALUE=DATE:20260831
DTSTAMP:20260424T142237
CREATED:20260122T211109Z
LAST-MODIFIED:20260122T211109Z
UID:8989-1787875200-1788134399@www.ssk-uherskyostroh.cz
SUMMARY:Soukromá akce
DESCRIPTION:
URL:https://www.ssk-uherskyostroh.cz/event/soukroma-akce-22/
CATEGORIES:Soukromá akce
END:VEVENT
BEGIN:VEVENT
DTSTART;VALUE=DATE:20260904
DTEND;VALUE=DATE:20260907
DTSTAMP:20260424T142237
CREATED:20251002T181113Z
LAST-MODIFIED:20251002T181113Z
UID:8821-1788480000-1788739199@www.ssk-uherskyostroh.cz
SUMMARY:Soukromá akce
DESCRIPTION:
URL:https://www.ssk-uherskyostroh.cz/event/soukroma-akce-13/
CATEGORIES:Soukromá akce
END:VEVENT
END:VCALENDAR