BEGIN:VCALENDAR
VERSION:2.0
PRODID:-//SSK Uherský Ostroh - ECPv6.15.20//NONSGML v1.0//EN
CALSCALE:GREGORIAN
METHOD:PUBLISH
X-WR-CALNAME:SSK Uherský Ostroh
X-ORIGINAL-URL:https://www.ssk-uherskyostroh.cz
X-WR-CALDESC:Akce na SSK Uherský Ostroh
REFRESH-INTERVAL;VALUE=DURATION:PT1H
X-Robots-Tag:noindex
X-PUBLISHED-TTL:PT1H
BEGIN:VTIMEZONE
TZID:Europe/Prague
BEGIN:DAYLIGHT
TZOFFSETFROM:+0100
TZOFFSETTO:+0200
TZNAME:CEST
DTSTART:20240331T010000
END:DAYLIGHT
BEGIN:STANDARD
TZOFFSETFROM:+0200
TZOFFSETTO:+0100
TZNAME:CET
DTSTART:20241027T010000
END:STANDARD
BEGIN:DAYLIGHT
TZOFFSETFROM:+0100
TZOFFSETTO:+0200
TZNAME:CEST
DTSTART:20250330T010000
END:DAYLIGHT
BEGIN:STANDARD
TZOFFSETFROM:+0200
TZOFFSETTO:+0100
TZNAME:CET
DTSTART:20251026T010000
END:STANDARD
BEGIN:DAYLIGHT
TZOFFSETFROM:+0100
TZOFFSETTO:+0200
TZNAME:CEST
DTSTART:20260329T010000
END:DAYLIGHT
BEGIN:STANDARD
TZOFFSETFROM:+0200
TZOFFSETTO:+0100
TZNAME:CET
DTSTART:20261025T010000
END:STANDARD
BEGIN:DAYLIGHT
TZOFFSETFROM:+0100
TZOFFSETTO:+0200
TZNAME:CEST
DTSTART:20270328T010000
END:DAYLIGHT
BEGIN:STANDARD
TZOFFSETFROM:+0200
TZOFFSETTO:+0100
TZNAME:CET
DTSTART:20271031T010000
END:STANDARD
END:VTIMEZONE
BEGIN:VEVENT
DTSTART;VALUE=DATE:20260418
DTEND;VALUE=DATE:20260419
DTSTAMP:20260424T125356
CREATED:20251214T160616Z
LAST-MODIFIED:20260411T170527Z
UID:8884-1776470400-1776556799@www.ssk-uherskyostroh.cz
SUMMARY:Jarní cena 2026 - předovky
DESCRIPTION:Propozice \nStartovní listiny-krátké a dlouhé \nStartovní listiny-100 m
URL:https://www.ssk-uherskyostroh.cz/event/jarni-cena-2026-predovky/
CATEGORIES:Závody
END:VEVENT
BEGIN:VEVENT
DTSTART;TZID=Europe/Prague:20260403T080000
DTEND;TZID=Europe/Prague:20260405T170000
DTSTAMP:20260424T125356
CREATED:20250708T094042Z
LAST-MODIFIED:20250708T094042Z
UID:8728-1775203200-1775408400@www.ssk-uherskyostroh.cz
SUMMARY:Soukromá akce
DESCRIPTION:
URL:https://www.ssk-uherskyostroh.cz/event/soukroma-akce-12/
CATEGORIES:Soukromá akce
END:VEVENT
BEGIN:VEVENT
DTSTART;VALUE=DATE:20260327
DTEND;VALUE=DATE:20260330
DTSTAMP:20260424T125356
CREATED:20251204T085800Z
LAST-MODIFIED:20251204T085800Z
UID:8871-1774569600-1774828799@www.ssk-uherskyostroh.cz
SUMMARY:Soukromá akce
DESCRIPTION:
URL:https://www.ssk-uherskyostroh.cz/event/soukroma-akce-16/
CATEGORIES:Soukromá akce
END:VEVENT
BEGIN:VEVENT
DTSTART;VALUE=DATE:20260322
DTEND;VALUE=DATE:20260323
DTSTAMP:20260424T125356
CREATED:20260104T164319Z
LAST-MODIFIED:20260322T191813Z
UID:8942-1774137600-1774223999@www.ssk-uherskyostroh.cz
SUMMARY:KSL Zlínsko - VzPu 30 - 3. kolo
DESCRIPTION:Propozice \nVýsledky \n 
URL:https://www.ssk-uherskyostroh.cz/event/ksl-zlinsko-vzpu-30-3-kolo/
CATEGORIES:Závody
END:VEVENT
BEGIN:VEVENT
DTSTART;VALUE=DATE:20260214
DTEND;VALUE=DATE:20260215
DTSTAMP:20260424T125356
CREATED:20260104T163204Z
LAST-MODIFIED:20260218T182939Z
UID:8939-1771027200-1771113599@www.ssk-uherskyostroh.cz
SUMMARY:Pohár SSK Uh. Ostroh - VzPu 40\, VzPu 60 - 2. kolo
DESCRIPTION:Propozice \nPřihlášky \nVýsledky
URL:https://www.ssk-uherskyostroh.cz/event/pohar-ssk-uh-ostroh-vzpu-40-vzpu-60-2-kolo/
CATEGORIES:Závody
END:VEVENT
BEGIN:VEVENT
DTSTART;TZID=Europe/Prague:20260207T090000
DTEND;TZID=Europe/Prague:20260207T110000
DTSTAMP:20260424T125356
CREATED:20260103T113538Z
LAST-MODIFIED:20260103T131726Z
UID:8916-1770454800-1770462000@www.ssk-uherskyostroh.cz
SUMMARY:Výroční členská schůze
DESCRIPTION:P O Z V Á N K A \nVýbor ČSS\, z.s. – SSK Uh. Ostroh srdečně zve všechny členy klubu na \nvýroční členskou schůzi\, která se koná v SOBOTU  – 7.  ÚNORA  2026 v 9.00 hod. na střelnici. \nPřijďte si mezi nás popovídat o Vašich názorech či připomínkách\, ať už kladných nebo záporných. \nV případě\, že se nemůžete z vážných důvodů zúčastnit nebo hodláte ukončit členství v organizaci\, oznamte to osobně\, telefonicky nebo elektronickou či písemnou formou na adresu jednatelky klubu: \n  \nJitka Zajíčková\, Rybáře 65\, 687 24 Uh. Ostroh \ne-mail: zajickova.jitka@tiscali.cz\, tel: 608 857 007 \n  \nZa výbor SSK Uh. Ostroh jednatelka a pokladní klubu Jitka Zajíčková \nUpozornění: \n– budou se platit členské příspěvky na rok 2026 (500 Kč + 200 Kč) \n(částku můžete poslat již teď na účet 154181588/0300 – do poznámky\, prosím napište – příspěvky a vaše příjmení) \n– budou se také vyřizovat pohledávky za neodpracované brigádnické hodiny za rok 2025 \n(částku vám napíši na váš e-mail a můžete ji poslat již teď na účet 154181588/0300 – do poznámky\, prosím napište – brigády a vaše      příjmení) \n– h o t o v o s t pro ostatní členy a dobrou náladu s sebou!!!
URL:https://www.ssk-uherskyostroh.cz/event/vyrocni-clenska-schuze/
CATEGORIES:Akce
ATTACH;FMTTYPE=image/jpeg:https://www.ssk-uherskyostroh.cz/wp-content/uploads/2025/04/Budova3-1-12.jpg
END:VEVENT
BEGIN:VEVENT
DTSTART;VALUE=DATE:20260131
DTEND;VALUE=DATE:20260201
DTSTAMP:20260424T125356
CREATED:20260104T162606Z
LAST-MODIFIED:20260204T175505Z
UID:8933-1769817600-1769903999@www.ssk-uherskyostroh.cz
SUMMARY:Pohár SSK Uh. Ostroh - VzPi 40\, VzPi 60
DESCRIPTION:Propozice \nPřihlášky \nVýsledky
URL:https://www.ssk-uherskyostroh.cz/event/pohar-ssk-uh-ostroh-vzpi-40-vzpi-60/
CATEGORIES:Závody
END:VEVENT
BEGIN:VEVENT
DTSTART;VALUE=DATE:20260110
DTEND;VALUE=DATE:20260111
DTSTAMP:20260424T125356
CREATED:20260104T161914Z
LAST-MODIFIED:20260204T180440Z
UID:8930-1768003200-1768089599@www.ssk-uherskyostroh.cz
SUMMARY:Pohár SSK Uh. Ostroh - VzPu 40\, VzPu 60 - 1. kolo
DESCRIPTION:Propozice \nPřihlášky \nVýsledky
URL:https://www.ssk-uherskyostroh.cz/event/pohar-ssk-uh-ostroh-1-kolo-vzpu-40-vzpu-60/
CATEGORIES:Závody
END:VEVENT
BEGIN:VEVENT
DTSTART;VALUE=DATE:20251024
DTEND;VALUE=DATE:20251027
DTSTAMP:20260424T125356
CREATED:20250422T105738Z
LAST-MODIFIED:20250423T143601Z
UID:8345-1761264000-1761523199@www.ssk-uherskyostroh.cz
SUMMARY:Soukromá akce
DESCRIPTION:
URL:https://www.ssk-uherskyostroh.cz/event/pronajem-chaty-17/
CATEGORIES:Soukromá akce
END:VEVENT
BEGIN:VEVENT
DTSTART;VALUE=DATE:20251017
DTEND;VALUE=DATE:20251020
DTSTAMP:20260424T125356
CREATED:20250422T105720Z
LAST-MODIFIED:20250423T143604Z
UID:8343-1760659200-1760918399@www.ssk-uherskyostroh.cz
SUMMARY:Soukromá akce
DESCRIPTION:
URL:https://www.ssk-uherskyostroh.cz/event/pronajem-chaty-16/
CATEGORIES:Soukromá akce
END:VEVENT
BEGIN:VEVENT
DTSTART;VALUE=DATE:20251010
DTEND;VALUE=DATE:20251013
DTSTAMP:20260424T125356
CREATED:20250521T151455Z
LAST-MODIFIED:20250521T151455Z
UID:8630-1760054400-1760313599@www.ssk-uherskyostroh.cz
SUMMARY:Soukromá akce
DESCRIPTION:
URL:https://www.ssk-uherskyostroh.cz/event/soukroma-akce-8/
CATEGORIES:Soukromá akce
END:VEVENT
BEGIN:VEVENT
DTSTART;VALUE=DATE:20251003
DTEND;VALUE=DATE:20251006
DTSTAMP:20260424T125356
CREATED:20250422T105700Z
LAST-MODIFIED:20250423T143614Z
UID:8341-1759449600-1759708799@www.ssk-uherskyostroh.cz
SUMMARY:Soukromá akce
DESCRIPTION:
URL:https://www.ssk-uherskyostroh.cz/event/pronajem-chaty-15/
CATEGORIES:Soukromá akce
END:VEVENT
BEGIN:VEVENT
DTSTART;VALUE=DATE:20250926
DTEND;VALUE=DATE:20250929
DTSTAMP:20260424T125356
CREATED:20250422T105527Z
LAST-MODIFIED:20250423T143916Z
UID:8339-1758844800-1759103999@www.ssk-uherskyostroh.cz
SUMMARY:Soukromá akce
DESCRIPTION:
URL:https://www.ssk-uherskyostroh.cz/event/pronajem-chaty-14/
CATEGORIES:Soukromá akce
END:VEVENT
BEGIN:VEVENT
DTSTART;VALUE=DATE:20250919
DTEND;VALUE=DATE:20250922
DTSTAMP:20260424T125356
CREATED:20250422T105508Z
LAST-MODIFIED:20250423T143946Z
UID:8337-1758240000-1758499199@www.ssk-uherskyostroh.cz
SUMMARY:Soukromá akce
DESCRIPTION:
URL:https://www.ssk-uherskyostroh.cz/event/pronajem-chaty-13/
CATEGORIES:Soukromá akce
END:VEVENT
BEGIN:VEVENT
DTSTART;VALUE=DATE:20250912
DTEND;VALUE=DATE:20250915
DTSTAMP:20260424T125356
CREATED:20250422T105444Z
LAST-MODIFIED:20250423T143950Z
UID:8335-1757635200-1757894399@www.ssk-uherskyostroh.cz
SUMMARY:Soukromá akce
DESCRIPTION:
URL:https://www.ssk-uherskyostroh.cz/event/pronajem-chaty-12/
CATEGORIES:Soukromá akce
END:VEVENT
BEGIN:VEVENT
DTSTART;VALUE=DATE:20250822
DTEND;VALUE=DATE:20250825
DTSTAMP:20260424T125356
CREATED:20250428T055330Z
LAST-MODIFIED:20250428T055330Z
UID:8483-1755820800-1756079999@www.ssk-uherskyostroh.cz
SUMMARY:Soukromá akce
DESCRIPTION:
URL:https://www.ssk-uherskyostroh.cz/event/soukroma-akce-3/
CATEGORIES:Soukromá akce
END:VEVENT
BEGIN:VEVENT
DTSTART;VALUE=DATE:20250815
DTEND;VALUE=DATE:20250818
DTSTAMP:20260424T125356
CREATED:20250428T055217Z
LAST-MODIFIED:20250428T055217Z
UID:8478-1755216000-1755475199@www.ssk-uherskyostroh.cz
SUMMARY:Soukromá akce
DESCRIPTION:
URL:https://www.ssk-uherskyostroh.cz/event/soukroma-akce/
CATEGORIES:Soukromá akce
END:VEVENT
BEGIN:VEVENT
DTSTART;VALUE=DATE:20250808
DTEND;VALUE=DATE:20250810
DTSTAMP:20260424T125356
CREATED:20250422T105355Z
LAST-MODIFIED:20250423T143957Z
UID:8331-1754611200-1754783999@www.ssk-uherskyostroh.cz
SUMMARY:Soukromá akce
DESCRIPTION:
URL:https://www.ssk-uherskyostroh.cz/event/pronajem-chaty-11/
CATEGORIES:Soukromá akce
END:VEVENT
BEGIN:VEVENT
DTSTART;VALUE=DATE:20250802
DTEND;VALUE=DATE:20250804
DTSTAMP:20260424T125356
CREATED:20250428T055357Z
LAST-MODIFIED:20250503T063222Z
UID:8485-1754092800-1754265599@www.ssk-uherskyostroh.cz
SUMMARY:Soukromá akce
DESCRIPTION:
URL:https://www.ssk-uherskyostroh.cz/event/soukroma-akce-4/
CATEGORIES:Soukromá akce
END:VEVENT
BEGIN:VEVENT
DTSTART;VALUE=DATE:20250725
DTEND;VALUE=DATE:20250728
DTSTAMP:20260424T125356
CREATED:20250428T055425Z
LAST-MODIFIED:20250428T055425Z
UID:8488-1753401600-1753660799@www.ssk-uherskyostroh.cz
SUMMARY:Soukromá akce
DESCRIPTION:
URL:https://www.ssk-uherskyostroh.cz/event/soukroma-akce-5/
CATEGORIES:Soukromá akce
END:VEVENT
BEGIN:VEVENT
DTSTART;VALUE=DATE:20250718
DTEND;VALUE=DATE:20250721
DTSTAMP:20260424T125356
CREATED:20250505T142029Z
LAST-MODIFIED:20250505T142029Z
UID:8571-1752796800-1753055999@www.ssk-uherskyostroh.cz
SUMMARY:Soukromá akce
DESCRIPTION:
URL:https://www.ssk-uherskyostroh.cz/event/soukroma-akce-6/
CATEGORIES:Soukromá akce
END:VEVENT
BEGIN:VEVENT
DTSTART;VALUE=DATE:20250711
DTEND;VALUE=DATE:20250714
DTSTAMP:20260424T125356
CREATED:20250422T105309Z
LAST-MODIFIED:20250423T144004Z
UID:8327-1752192000-1752451199@www.ssk-uherskyostroh.cz
SUMMARY:Soukromá akce
DESCRIPTION:
URL:https://www.ssk-uherskyostroh.cz/event/pronajem-chaty-9/
CATEGORIES:Soukromá akce
END:VEVENT
BEGIN:VEVENT
DTSTART;VALUE=DATE:20250627
DTEND;VALUE=DATE:20250630
DTSTAMP:20260424T125356
CREATED:20250422T105225Z
LAST-MODIFIED:20250423T144007Z
UID:8323-1750982400-1751241599@www.ssk-uherskyostroh.cz
SUMMARY:Soukromá akce
DESCRIPTION:
URL:https://www.ssk-uherskyostroh.cz/event/pronajem-chaty-8/
CATEGORIES:Soukromá akce
END:VEVENT
BEGIN:VEVENT
DTSTART;VALUE=DATE:20250620
DTEND;VALUE=DATE:20250623
DTSTAMP:20260424T125356
CREATED:20250422T105157Z
LAST-MODIFIED:20250423T144011Z
UID:8321-1750377600-1750636799@www.ssk-uherskyostroh.cz
SUMMARY:Soukromá akce
DESCRIPTION:
URL:https://www.ssk-uherskyostroh.cz/event/pronajem-chaty-7/
CATEGORIES:Soukromá akce
END:VEVENT
BEGIN:VEVENT
DTSTART;VALUE=DATE:20250613
DTEND;VALUE=DATE:20250616
DTSTAMP:20260424T125356
CREATED:20250422T105140Z
LAST-MODIFIED:20250423T144015Z
UID:8319-1749772800-1750031999@www.ssk-uherskyostroh.cz
SUMMARY:Soukromá akce
DESCRIPTION:
URL:https://www.ssk-uherskyostroh.cz/event/pronajem-chaty-6/
CATEGORIES:Soukromá akce
END:VEVENT
BEGIN:VEVENT
DTSTART;VALUE=DATE:20250607
DTEND;VALUE=DATE:20250609
DTSTAMP:20260424T125356
CREATED:20250422T105114Z
LAST-MODIFIED:20250422T105114Z
UID:8317-1749254400-1749427199@www.ssk-uherskyostroh.cz
SUMMARY:Město Uh. Ostroh
DESCRIPTION:
URL:https://www.ssk-uherskyostroh.cz/event/mesto-uh-ostroh-2/
CATEGORIES:Akce
END:VEVENT
BEGIN:VEVENT
DTSTART;VALUE=DATE:20250605
DTEND;VALUE=DATE:20250606
DTSTAMP:20260424T125356
CREATED:20250422T105053Z
LAST-MODIFIED:20250422T105053Z
UID:8315-1749081600-1749167999@www.ssk-uherskyostroh.cz
SUMMARY:Ostroh Fest - hudební festival v Uh. Ostrohu
DESCRIPTION:
URL:https://www.ssk-uherskyostroh.cz/event/ostroh-fest-hudebni-festival-v-uh-ostrohu/
CATEGORIES:Akce
END:VEVENT
BEGIN:VEVENT
DTSTART;VALUE=DATE:20250604
DTEND;VALUE=DATE:20250606
DTSTAMP:20260424T125356
CREATED:20250422T105024Z
LAST-MODIFIED:20250422T105024Z
UID:8313-1748995200-1749167999@www.ssk-uherskyostroh.cz
SUMMARY:Město Uh. Ostroh
DESCRIPTION:
URL:https://www.ssk-uherskyostroh.cz/event/mesto-uh-ostroh/
CATEGORIES:Akce
END:VEVENT
BEGIN:VEVENT
DTSTART;VALUE=DATE:20250530
DTEND;VALUE=DATE:20250602
DTSTAMP:20260424T125356
CREATED:20250422T104954Z
LAST-MODIFIED:20250423T144020Z
UID:8311-1748563200-1748822399@www.ssk-uherskyostroh.cz
SUMMARY:Soukromá akce
DESCRIPTION:
URL:https://www.ssk-uherskyostroh.cz/event/pronajem-chaty-5/
CATEGORIES:Soukromá akce
END:VEVENT
BEGIN:VEVENT
DTSTART;VALUE=DATE:20250523
DTEND;VALUE=DATE:20250526
DTSTAMP:20260424T125356
CREATED:20250422T104924Z
LAST-MODIFIED:20250423T144024Z
UID:8309-1747958400-1748217599@www.ssk-uherskyostroh.cz
SUMMARY:Soukromá akce
DESCRIPTION:
URL:https://www.ssk-uherskyostroh.cz/event/pronajem-chaty-4/
CATEGORIES:Soukromá akce
END:VEVENT
END:VCALENDAR